BEGIN:VCALENDAR
VERSION:2.0
PRODID:-//ERT//LNF26//DE
VERSION:2.0
BEGIN:VEVENT
UID:exhibitionlocation_675_20260424T150000Z
DTSTAMP:20260419T225600Z
URL:https://ert.langenachtderforschung.at/ausstellungsstandort/675
DTSTART:20260424T150000Z
DTEND:20260424T210000Z
SUMMARY:[LNF26] TU Graz - Kopernikusgasse 24
DESCRIPTION:TU Graz - Campus Neue Technik
LOCATION:Kopernikusgasse 24, 8010 Graz
GEO:47.06494851;15.45095623
END:VEVENT
END:VCALENDAR