BEGIN:VCALENDAR
VERSION:2.0
PRODID:-//ERT//LNF26//DE
VERSION:2.0
BEGIN:VEVENT
UID:exhibitionlocation_754_20260424T150000Z
DTSTAMP:20260419T225600Z
URL:https://ert.langenachtderforschung.at/ausstellungsstandort/754
DTSTART:20260424T150000Z
DTEND:20260424T210000Z
SUMMARY:[LNF26] TU Graz - Steyrergasse 17
DESCRIPTION:TU Graz - Campus Neue Technik
LOCATION:Steyrergasse 17, 8010 Graz
GEO:47.06391610;15.45324900
END:VEVENT
END:VCALENDAR