BEGIN:VCALENDAR
VERSION:2.0
PRODID:-//ERT//LNF26//DE
VERSION:2.0
BEGIN:VEVENT
UID:exhibitionlocation_78_20260424T150000Z
DTSTAMP:20260421T083600Z
URL:https://ert.langenachtderforschung.at/ausstellungsstandort/78
DTSTART:20260424T150000Z
DTEND:20260424T210000Z
SUMMARY:[LNF26] MedUni Wien - Zentrum für Krebsforschung
DESCRIPTION:Das Zentrum für Krebsforschung betreibt international beachtete onkologische Grundlagenforschung sowie translational-onkologische Forschung in den Bereichen zelluläre und molekulare Tumorbiologie, angewandte und experimentelle Onkologie, Sicherheit chemischer Substanzen und Krebsprävention und Progression und Metastasierung von Tumoren.
LOCATION:Borschkegasse 4a Walter-Beck-Platz, 1090 Wien
GEO:48.21815830;16.34618372
END:VEVENT
END:VCALENDAR