BEGIN:VCALENDAR
VERSION:2.0
PRODID:-//ERT//LNF26//DE
VERSION:2.0
BEGIN:VEVENT
UID:exhibitionlocation_79_20260424T150000Z
DTSTAMP:20260419T122000Z
URL:https://ert.langenachtderforschung.at/ausstellungsstandort/79
DTSTART:20260424T150000Z
DTEND:20260424T210000Z
SUMMARY:[LNF26] Haus der Immunologie - Institut für Immunologie und Institut für Hygiene und Angewandte Immunologie im Vienna Competence Center
DESCRIPTION:Faszinierendes Immunsystem! Die Immunologie ist einer der besonders erfolgreichen Forschungsschwerpunkte der MedUni Wien. Immunolog:innen beschäftigen sich zum Beispiel mit der Entwicklung von Therapien oder Diagnosen von Allergien, mit der speziellen Rolle des Immunsystems bei Transplantationen und mit Immuntherapien gegen Krebs.
LOCATION:Lazarettgasse 19, 1090 Wien
GEO:48.21728410;16.34835700
END:VEVENT
END:VCALENDAR