BEGIN:VCALENDAR
VERSION:2.0
PRODID:-//ERT//LNF26//DE
VERSION:2.0
BEGIN:VEVENT
UID:exhibitionlocation_82_20260424T150000Z
DTSTAMP:20260420T135000Z
URL:https://ert.langenachtderforschung.at/ausstellungsstandort/82
DTSTART:20260424T150000Z
DTEND:20260424T210000Z
SUMMARY:[LNF26] St. Anna Kinderkrebsforschung
DESCRIPTION:Die Zukunft der Kinderkrebsforschung: Tauchen Sie ein in die Welt der Forschung und erleben Sie, wie wir Krankheiten erforschen, sie besser verstehen und neue Therapieansätze entwickeln.
LOCATION:Zimmermannplatz 10, 1090 Wien
GEO:48.21666685;16.34408891
END:VEVENT
END:VCALENDAR