BEGIN:VCALENDAR
VERSION:2.0
PRODID:-//ERT//LNF26//DE
VERSION:2.0
BEGIN:VEVENT
UID:exhibitionlocation_824_20260424T150000Z
DTSTAMP:20260422T225200Z
URL:https://ert.langenachtderforschung.at/ausstellungsstandort/824
DTSTART:20260424T150000Z
DTEND:20260424T210000Z
SUMMARY:[LNF26] WU Wien TC-Gebäude
DESCRIPTION:Im Audimax des TC Gebäudes im Erdgeschoß finden die Vorträge der Langen Nacht der Forschung statt. Im Foyer des TC laden Forschungsstationen zum Mitmachen ein.
LOCATION:Welthandelsplatz 1 TC, 1020 Wien
GEO:48.21250068;16.41016927
END:VEVENT
END:VCALENDAR