BEGIN:VCALENDAR
VERSION:2.0
PRODID:-//ERT//LNF26//DE
VERSION:2.0
BEGIN:VEVENT
UID:exhibitionlocation_837_20260424T150000Z
DTSTAMP:20260419T211800Z
URL:https://ert.langenachtderforschung.at/ausstellungsstandort/837
DTSTART:20260424T150000Z
DTEND:20260424T200000Z
SUMMARY:[LNF26] ANDRITZ Hydro GmbH Weiz
DESCRIPTION:Der Rundgang im Werk Weiz bietet Einblicke in große rotierende elektrische Maschinen wie Wasserkraft‑ und Turbogeneratoren. Besucher erhalten eine Einführung in die Wasserkraft, lernen Messmethoden kennen und erleben beeindruckende Hochspannungsvorführungen. Lehrlinge geben Einblick in ihre Ausbildung und ein gut erhaltener Generator von 1917 rundet den technischen Einblick in die Welt der Energieerzeugung ab.
LOCATION:Roseggergasse 12 Tor 11, 8160 Weiz
GEO:47.22257569;15.62101316
END:VEVENT
END:VCALENDAR