BEGIN:VCALENDAR
VERSION:2.0
PRODID:-//ERT//LNF26//DE
VERSION:2.0
BEGIN:VEVENT
UID:exhibitionlocation_841_20260424T150000Z
DTSTAMP:20260423T002000Z
URL:https://ert.langenachtderforschung.at/ausstellungsstandort/841
DTSTART:20260424T150000Z
DTEND:20260424T170000Z
SUMMARY:[LNF26] WU Wien Campusführungen
DESCRIPTION:Erkunden und erleben Sie den einzigartigen Campus der WU – den modernsten Universitätscampus Österreichs – mit seiner preisgekrönten Architektur.
LOCATION:Welthandelsplatz 1 TC, 1020 Wien
GEO:48.21252472;16.41015507
END:VEVENT
END:VCALENDAR