BEGIN:VCALENDAR
VERSION:2.0
PRODID:-//ERT//LNF26//DE
VERSION:2.0
BEGIN:VEVENT
UID:exhibitionlocation_85_20260424T150000Z
DTSTAMP:20260419T225600Z
URL:https://ert.langenachtderforschung.at/ausstellungsstandort/85
DTSTART:20260424T150000Z
DTEND:20260424T210000Z
SUMMARY:[LNF26] ZWT - Zentrum für Wissens- und Technologietransfer in der Medizin
DESCRIPTION:Hier wird Forschung zur konkreten Anwendung: Wie kann man mit Lasertechnologie die Qualität von Infusionen kontrollieren? Wie werden Gewebeproben vorbereitet und verwahrt? Am ZWT starten Life-Science-Unternehmen ihre Produktion und zeigen, wie die Gesellschaft durch den Wissenstransfer zwischen Wissenschaft und Wirtschaft profitiert. Live erleben, wie es in der Biobank aussieht und vieles mehr!
LOCATION:Neue Stiftingtalstraße 2, 8010 Graz
GEO:47.08009664;15.46932399
END:VEVENT
END:VCALENDAR