BEGIN:VCALENDAR
VERSION:2.0
PRODID:-//ERT//LNF26//DE
VERSION:2.0
BEGIN:VEVENT
UID:exhibitionlocation_851_20260424T150000Z
DTSTAMP:20260419T225600Z
URL:https://ert.langenachtderforschung.at/ausstellungsstandort/851
DTSTART:20260424T150000Z
DTEND:20260424T210000Z
SUMMARY:[LNF26] TU Graz - Kronesgasse 5
DESCRIPTION:TU Graz - Campus Neue Technik
LOCATION:Kronesgasse 5, 8010 Graz
GEO:47.06563440;15.44865650
END:VEVENT
END:VCALENDAR