BEGIN:VCALENDAR
VERSION:2.0
PRODID:-//ERT//LNF26//DE
VERSION:2.0
BEGIN:VEVENT
UID:exhibitionlocation_887_20260424T150000Z
DTSTAMP:20260422T174100Z
URL:https://ert.langenachtderforschung.at/ausstellungsstandort/887
DTSTART:20260424T150000Z
DTEND:20260424T203000Z
SUMMARY:[LNF26] FH Wiener Neustadt - Campus Wieselburg
DESCRIPTION:Der Campus Wieselburg der Fachhochschule Wiener Neustadt ist ein Standort mit Fokus auf Innovation, Nachhaltigkeit und Technik. Hier werden zukunftsweisende Lösungen in den Bereichen Eco Design, regenerative Energiesysteme sowie Marketing und Kommunikation entwickelt, die neue Impulse für eine nachhaltige Zukunft setzen.
LOCATION:Zeiselgraben 4, 3250 Wieselburg
GEO:48.13899125;15.13896838
END:VEVENT
END:VCALENDAR