BEGIN:VCALENDAR
VERSION:2.0
PRODID:-//ERT//LNF26//DE
VERSION:2.0
BEGIN:VEVENT
UID:exhibitionlocation_9_20260424T150000Z
DTSTAMP:20260420T194200Z
URL:https://ert.langenachtderforschung.at/ausstellungsstandort/9
DTSTART:20260424T150000Z
DTEND:20260424T210000Z
SUMMARY:[LNF26] Museum Niederösterreich
DESCRIPTION:Das Haus der Geschichte lädt zu einer faszinierenden Reise durch 40.000 Jahre Menschheitsgeschichte mit einem Schwerpunkt ab 1848. Im Haus für Natur sind über 40 Tierarten vom Wels bis zur Kreuzotter bei einem Spaziergang durch die Lebensräume Niederösterreichs zu beobachten. Sowohl Haupt- als auch Sonderausstellungen sind dank Forschungskooperationen auf dem neuesten Stand der Wissenschaft.
LOCATION:Kulturbezirk 5, 3100 St. Pölten
GEO:48.20026944;15.63139111
END:VEVENT
END:VCALENDAR