BEGIN:VCALENDAR
VERSION:2.0
PRODID:-//ERT//LNF26//DE
VERSION:2.0
BEGIN:VEVENT
UID:exhibitionlocation_976_20260424T150000Z
DTSTAMP:20260419T225600Z
URL:https://ert.langenachtderforschung.at/ausstellungsstandort/976
DTSTART:20260424T150000Z
DTEND:20260424T210000Z
SUMMARY:[LNF26] HyCentA
DESCRIPTION:Die Vision einer klimaneutralen Welt treibt uns an. Als Österreichs führendes COMET-Forschungszentrum für Wasserstoff an der TU Graz entwickeln wir seit 2005 Lösungen entlang der gesamten Wertschöpfungskette – von der erneuerbaren Erzeugung bis zur Anwendung. Schwerpunkte sind moderne Elektrolyse-, Industrie- und Energiesysteme sowie grüne Mobilität mit Brennstoffzellen.
LOCATION:Inffeldgasse 15, 8010 Graz
GEO:47.05872901;15.46386033
END:VEVENT
END:VCALENDAR