BEGIN:VCALENDAR
VERSION:2.0
PRODID:-//ERT//LNF26//DE
VERSION:2.0
BEGIN:VEVENT
UID:station_100_20260324T160000Z
DTSTAMP:20260424T102300Z
URL:https://ert.langenachtderforschung.at/station/100
DTSTART:20260324T160000Z
DTEND:20260424T203000Z
SUMMARY:[LNF26] Wasser kochen im Weltraum
DESCRIPTION:Im Weltraum ist vieles anders als hier auf der Erde: Keine Luft ("Vakuum"), extrem kalt im Schatten, extrem heiß in der Sonne.  Die fehlende Luft bewirkt, dass das Wasser nicht wie gewohnt bei +100°C kocht, sondern …. \n... aber das wird nicht verraten: bei einem kleinen Versuch in unserem Mini-Weltraum werden wir das gemeinsam ausprobieren. Mitmachen von 7-99 Jahre möglich.
LOCATION:Viktor Kaplan Strasse 2 TFZ, 2700 Wiener Neustadt
GEO:47.83725022;16.25247860
END:VEVENT
END:VCALENDAR