BEGIN:VCALENDAR
VERSION:2.0
PRODID:-//ERT//LNF26//DE
VERSION:2.0
BEGIN:VEVENT
UID:station_1010_20260324T160000Z
DTSTAMP:20260420T020500Z
URL:https://ert.langenachtderforschung.at/station/1010
DTSTART:20260324T160000Z
DTEND:20260424T210000Z
SUMMARY:[LNF26] Warum ist Graz Europas „Biobanken-Hauptstadt“ und wie können Sie selbst dabei helfen, neue Therapien zu entwickeln?
DESCRIPTION:Einmal selbst mit Blut und Gewebe hantieren und an Millionen von Blut-, Gewebe- und anderen Proben bei einer Führung vorbeispazieren? Besuch uns! Im ZWT befindet sich eine der größten Biobanken Europas und mit BBMRI auch die Europa- und die Österreich-Zentrale, die dazu beiträgt, dass mehr als 100 Millionen Proben für den medizinischen Fortschritt genutzt werden können. Das darf man sich nicht entgehen lassen!
LOCATION:Neue Stiftingtalstraße 2, 8010 Graz
GEO:47.08009664;15.46932399
END:VEVENT
END:VCALENDAR