BEGIN:VCALENDAR
VERSION:2.0
PRODID:-//ERT//LNF26//DE
VERSION:2.0
BEGIN:VEVENT
UID:station_1014_20260424T174500Z
DTSTAMP:20260423T112200Z
URL:https://ert.langenachtderforschung.at/station/1014
DTSTART:20260424T174500Z
DTEND:20260424T180500Z
SUMMARY:[LNF26] Warum ist Laserlicht völlig ungeeignet für ein Laserschwert? Und warum kann es dafür Unsichtbares erkennbar machen?
DESCRIPTION:Flüssigkeiten in der Medizin, wie Impfstoffe oder Infusionen, enthalten Nanopartikel. Mit dem Mikroskop sind diese nicht zu erkennen. Um zu wissen, ob die Qualität der Flüssigkeiten stimmt, muss man sie sichtbar machen – das klappt mit der Lasertechnologie von BRAVE Analytics. Ganz im Gegensatz zu einem Laserschwert … Warum? Das erfahren Sie bei der Führung durchs Laserlabor. Erleben Sie, wie Laser sichtbar werden!
LOCATION:Neue Stiftingtalstraße 2, 8010 Graz
GEO:47.08009664;15.46932399
END:VEVENT
END:VCALENDAR