BEGIN:VCALENDAR
VERSION:2.0
PRODID:-//ERT//LNF26//DE
VERSION:2.0
BEGIN:VEVENT
UID:station_102_20260324T160000Z
DTSTAMP:20260424T102400Z
URL:https://ert.langenachtderforschung.at/station/102
DTSTART:20260324T160000Z
DTEND:20260424T203000Z
SUMMARY:[LNF26] Flugzeugbauteile mit Nervensystem?
DESCRIPTION:Komponenten für Flugzeuge sind oft starken Belastungen ausgesetzt, die zu Schädigung führen können. Um diese zu erkennen, müssen Flugzeuge regelmäßig inspiziert werden, was zu längeren Stilständen führt, auch wenn noch keine Schädigungen vorliegen. Wir haben ein Bauteil mit Sensoren (Nervensystem) ausgestattet, die es erlauben potentielle Schäden zu erkennen. Das kann selber ausprobiert werden.
LOCATION:Viktor Kaplan Strasse 2 TFZ, 2700 Wiener Neustadt
GEO:47.83725022;16.25247860
END:VEVENT
END:VCALENDAR