BEGIN:VCALENDAR
VERSION:2.0
PRODID:-//ERT//LNF26//DE
VERSION:2.0
BEGIN:VEVENT
UID:station_104_20260324T160000Z
DTSTAMP:20260424T085800Z
URL:https://ert.langenachtderforschung.at/station/104
DTSTART:20260324T160000Z
DTEND:20260424T203000Z
SUMMARY:[LNF26] LOCI Design - Wie kann man aus einer Ritterburg eine Rakete bauen?
DESCRIPTION:LOCI ist der weltweit erste modulare Spielmöbelbausatz, der Bauen, Spielen und Lernen vereint und Kindern echte Selbstwirksamkeit ermöglicht. \nOhne Werkzeug und ohne Hilfe können Kinder stabile Spielwelten und Möbel erschaffen, umbauen und platzsparend verstauen. \nLOCI ersetzt monofunktionale Spielmöbel durch ein flexibles, langlebiges und kreislauffähiges System mit pädagogischem Mehrwert.
LOCATION:Viktor Kaplan Strasse 2 TFZ, 2700 Wiener Neustadt
GEO:47.83725022;16.25247860
END:VEVENT
END:VCALENDAR