BEGIN:VCALENDAR
VERSION:2.0
PRODID:-//ERT//LNF26//DE
VERSION:2.0
BEGIN:VEVENT
UID:station_105_20260324T160000Z
DTSTAMP:20260424T085700Z
URL:https://ert.langenachtderforschung.at/station/105
DTSTART:20260324T160000Z
DTEND:20260424T203000Z
SUMMARY:[LNF26] M-Chem - Wie wird aus Aluminiumabfall ein neuer Rohstoff?
DESCRIPTION:M-Chem, ein niederösterreichisches Start-up, ist spezialisiert auf die Herstellung von hochreinem Aluminiumoxid (HPA). Der von der EU als kritisch eingestufte Rohstoff ist essenziell u.a. für LEDs, Halbleiter, E-Auto Batterien und Mikrochips.\nM-Chem produziert HPA aus lokalen Aluminiumabfällen mittels patentierter CHTO-Technologie – kosteneffizient, energieautark und CO₂-neutral und stärkt so Europas Unabhängigkeit.
LOCATION:Viktor Kaplan Strasse 2 TFZ, 2700 Wiener Neustadt
GEO:47.83725022;16.25247860
END:VEVENT
END:VCALENDAR