BEGIN:VCALENDAR
VERSION:2.0
PRODID:-//ERT//LNF26//DE
VERSION:2.0
BEGIN:VEVENT
UID:station_1124_20260324T160000Z
DTSTAMP:20260421T135100Z
URL:https://ert.langenachtderforschung.at/station/1124
DTSTART:20260324T160000Z
DTEND:20260424T210000Z
SUMMARY:[LNF26] Wie finden wir neue Substanzen in Pilzen und warum sind sie so wichtig für unsere Zukunft?
DESCRIPTION:Begebem Sie sich mit dem BiMM Forschungsschiff auf die Suche nach neuen Substanzen. In diesem Virtual-Reality-Erlebnis entdecken Sie, wo bioaktive Substanzen entstehen, welche Rolle sie für Gesundheit, Landwirtschaft und Umwelt spielen und wie die Forschung an der BiMM dazu beiträgt, neue Wirkstoffe zu identifizieren.
LOCATION:Konrad Lorenz Straße 24, 3430 Tulln
GEO:48.32077312;16.06863138
END:VEVENT
END:VCALENDAR