BEGIN:VCALENDAR
VERSION:2.0
PRODID:-//ERT//LNF26//DE
VERSION:2.0
BEGIN:VEVENT
UID:station_1163_20260324T160000Z
DTSTAMP:20260422T221700Z
URL:https://ert.langenachtderforschung.at/station/1163
DTSTART:20260324T160000Z
DTEND:20260424T210000Z
SUMMARY:[LNF26] Du willst Zukunft studieren? – Life Sciences and Digital Future
DESCRIPTION:Die Zukunft gehört euch – gestaltet sie mit! Entwickelt smarte Lösungen für Gesundheit, Umwelt und Gesellschaft. Die notwendige Ausrüstung dafür erhaltet ihr an der FHWN am Biotech Campus Tulln. Wir vermitteln Zukunftsvisionen, beraten über Studienmöglichkeiten und berichten über aktuelle Forschungsprojekte – kommt vorbei und macht euch schlau für die Herausforderungen von morgen!
LOCATION:Konrad Lorenz Straße 10, 3430 Tulln
GEO:48.32043157;16.06446745
END:VEVENT
END:VCALENDAR