BEGIN:VCALENDAR
VERSION:2.0
PRODID:-//ERT//LNF26//DE
VERSION:2.0
BEGIN:VEVENT
UID:station_1165_20260324T160000Z
DTSTAMP:20260422T221500Z
URL:https://ert.langenachtderforschung.at/station/1165
DTSTART:20260324T160000Z
DTEND:20260424T210000Z
SUMMARY:[LNF26] Vom Reagenzglas in die Zelle – Wie können winzige Transporthüllen Medikamente sicher in Zellen transportieren?
DESCRIPTION:Viele Medikamente, aber auch RNA sind empfindlich und können Zellen nicht einfach so erreichen. Besucher erfahren hier, wie Lipid Nanopartikel als Transporthüllen diese Stoffe schützen, transportieren und gezielt freisetzen. Durch anschauliche Modelle und Bilder wird sichtbar, wie Forschende RNA verpacken und kontrolliert in Zellen einschleusen.
LOCATION:Konrad Lorenz Straße 10, 3430 Tulln
GEO:48.32043157;16.06446745
END:VEVENT
END:VCALENDAR