BEGIN:VCALENDAR
VERSION:2.0
PRODID:-//ERT//LNF26//DE
VERSION:2.0
BEGIN:VEVENT
UID:station_12_20260324T160000Z
DTSTAMP:20260424T102300Z
URL:https://ert.langenachtderforschung.at/station/12
DTSTART:20260324T160000Z
DTEND:20260424T204500Z
SUMMARY:[LNF26] Wie kann man mit realem Sand topografische Landschaften in Echtzeit gestalten?
DESCRIPTION:An dieser Station kannst du spielerisch entdecken, wie Landschaften entstehen! Forme mit deinen Händen Hügel, Täler und Seen aus Sand und sieh zu, wie sie durch Augmented Reality in Echtzeit zum Leben erweckt werden.
LOCATION:Viktor Kaplan Strasse 2 TFZ, 2700 Wiener Neustadt
GEO:47.83725022;16.25247860
END:VEVENT
END:VCALENDAR