BEGIN:VCALENDAR
VERSION:2.0
PRODID:-//ERT//LNF26//DE
VERSION:2.0
BEGIN:VEVENT
UID:station_1262_20260324T160000Z
DTSTAMP:20260421T121800Z
URL:https://ert.langenachtderforschung.at/station/1262
DTSTART:20260324T160000Z
DTEND:20260424T210000Z
SUMMARY:[LNF26] Mission Klimaresilienz – wie meistern Pflanzen Trockenheit?
DESCRIPTION:Unser Klima verändert sich. Wie sichern wir unsere Ernährung bei zunehmender Trockenheit? Wie können sich Pflanzen an Umweltstress anpassen? Wir zeigen, wie moderne Technik „Stress-Signaturen“ misst und warum Leindotter ein Überlebenskünstler ist. Erfahren sie, wie wir Sojabohne als Proteinquellen der Zukunft fit für den Klimawandel machen.
LOCATION:Konrad Lorenz Straße 24, 3430 Tulln
GEO:48.32077312;16.06863138
END:VEVENT
END:VCALENDAR