BEGIN:VCALENDAR
VERSION:2.0
PRODID:-//ERT//LNF26//DE
VERSION:2.0
BEGIN:VEVENT
UID:station_1275_20260424T180000Z
DTSTAMP:20260420T145500Z
URL:https://ert.langenachtderforschung.at/station/1275
DTSTART:20260424T180000Z
DTEND:20260424T184500Z
SUMMARY:[LNF26] Wie reist Wissen durch Raum und Zeit?
DESCRIPTION:Im historischen Lesesaal der Universitätsbibliothek können Sie acht ausgewählte Schätze aus den Sondersammlungen entdecken. Im Speeddating-Format werden Ihnen Kostbarkeiten aus unterschiedlichen Epochen und Kulturräumen präsentiert – von antiken Papyri und der monumentalen Stratterbibel bis zur Schedel’schen Weltchronik.
LOCATION:Universitätsplatz 3a, 8010 Graz
GEO:47.07805140;15.45052973
END:VEVENT
END:VCALENDAR