BEGIN:VCALENDAR
VERSION:2.0
PRODID:-//ERT//LNF26//DE
VERSION:2.0
BEGIN:VEVENT
UID:station_1295_20260424T173000Z
DTSTAMP:20260420T145500Z
URL:https://ert.langenachtderforschung.at/station/1295
DTSTART:20260424T173000Z
DTEND:20260424T183000Z
SUMMARY:[LNF26] Wo beginnt das Ich?
DESCRIPTION:Was bleibt im eigenen Leben ungenutzt, ungehört, unberührt? Die Praxis der Zwischenräume lädt zu aktivem Loslassen ein, zum Verlassen sozialer Gewohnheiten und zum Lassen-Können ständiger Antwortbereitschaft. Wir zerteilen den eigenen Körper und befragen Zwischenräume und Umräume: Welche Verschiebungen zeigen sich? Was wird jenseits von Enge wahrnehmbar? Welche neuen Töne treten hervor? Mit Univ.-Prof. Steffi Hofer.
LOCATION:Johannesgasse 4a 2. Stock, 1010 Wien
GEO:48.20487090;16.37223610
END:VEVENT
END:VCALENDAR