BEGIN:VCALENDAR
VERSION:2.0
PRODID:-//ERT//LNF26//DE
VERSION:2.0
BEGIN:VEVENT
UID:station_138_20260324T160000Z
DTSTAMP:20260424T102400Z
URL:https://ert.langenachtderforschung.at/station/138
DTSTART:20260324T160000Z
DTEND:20260424T203000Z
SUMMARY:[LNF26] Erforsche die Magnetablenkung bei MedAustron
DESCRIPTION:Jede Besucherin und jeder Besucher kann an diesem Modell selbst ausprobieren, wie die Teilchen im MedAustron Beschleuniger mithilfe von Magneten gelenkt werden.
LOCATION:Viktor Kaplan Strasse 2 TFZ, 2700 Wiener Neustadt
GEO:47.83725022;16.25247860
END:VEVENT
END:VCALENDAR