BEGIN:VCALENDAR
VERSION:2.0
PRODID:-//ERT//LNF26//DE
VERSION:2.0
BEGIN:VEVENT
UID:station_139_20260324T160000Z
DTSTAMP:20260424T102400Z
URL:https://ert.langenachtderforschung.at/station/139
DTSTART:20260324T160000Z
DTEND:20260424T203000Z
SUMMARY:[LNF26] Wie lenkt man Ionenstrahlen millimetergenau bei der Behandlung?
DESCRIPTION:Ein steuerbares Gantry-Modell veranschaulicht die gezielte Tumorbestrahlung aus verschiedenen Winkeln und zeigt, wie dabei gesundes Gewebe optimal geschont wird.
LOCATION:Viktor Kaplan Strasse 2 TFZ, 2700 Wiener Neustadt
GEO:47.83725022;16.25247860
END:VEVENT
END:VCALENDAR