BEGIN:VCALENDAR
VERSION:2.0
PRODID:-//ERT//LNF26//DE
VERSION:2.0
BEGIN:VEVENT
UID:station_14_20260324T160000Z
DTSTAMP:20260424T085800Z
URL:https://ert.langenachtderforschung.at/station/14
DTSTART:20260324T160000Z
DTEND:20260424T204500Z
SUMMARY:[LNF26] Was können moderne Roboter?
DESCRIPTION:Bei dieser Station siehst du was ein moderner Roboterarm mit Hilfe von KI kann. Der kleine Roboter erkennt mithilfe einer Kamera die Farbe von Objekten, hebt sie mit einem Saugnapf auf und sortiert sie automatisch auf ein Förderband – ganz wie in der Industrie!
LOCATION:Viktor Kaplan Strasse 2 TFZ, 2700 Wiener Neustadt
GEO:47.83725022;16.25247860
END:VEVENT
END:VCALENDAR