BEGIN:VCALENDAR
VERSION:2.0
PRODID:-//ERT//LNF26//DE
VERSION:2.0
BEGIN:VEVENT
UID:station_140_20260324T160000Z
DTSTAMP:20260424T110600Z
URL:https://ert.langenachtderforschung.at/station/140
DTSTART:20260324T160000Z
DTEND:20260424T203000Z
SUMMARY:[LNF26] Beschleunigung von Teilchen im Synchrotron
DESCRIPTION:Diese Station zeigt das Funktionsprinzip eines Synchrotrons, wie es bei MedAustron eingesetzt wird. In der echten Anlage werden geladene Teilchen auf einer Kreisbahn mithilfe von Magnetfeldern gehalten und schrittweise beschleunigt. In unserem Modell veranschaulicht eine beschleunigte Metallkugel diesen Prozess und macht sichtbar, wie Teilchen kontrolliert Energie gewinnen und so gezielt eingesetzt werden können.
LOCATION:Viktor Kaplan Strasse 2 TFZ, 2700 Wiener Neustadt
GEO:47.83725022;16.25247860
END:VEVENT
END:VCALENDAR