BEGIN:VCALENDAR
VERSION:2.0
PRODID:-//ERT//LNF26//DE
VERSION:2.0
BEGIN:VEVENT
UID:station_1404_20260324T160000Z
DTSTAMP:20260420T003000Z
URL:https://ert.langenachtderforschung.at/station/1404
DTSTART:20260324T160000Z
DTEND:20260424T200000Z
SUMMARY:[LNF26] Was sind Exoplaneten?
DESCRIPTION:Extrasolare Planeten - oder Exoplaneten - sind Planeten außerhalb unseres Sonnensystems. Sie umkreisen andere Sterne als unsere Sonne und können Tausende Lichtjahre entfernt sein. Wie ist es möglich, sie trotzdem zu erforschen? Das Weltraumteleskop CHEOPS wendet dazu die sogenannte Transitmethode an. Erfahren Sie, was man darunter versteht und versuchen Sie selbst, einen Exoplaneten zu entdecken.
LOCATION:Schmiedlstraße 6, 8042 Graz
GEO:47.04438960;15.47958542
END:VEVENT
END:VCALENDAR