BEGIN:VCALENDAR
VERSION:2.0
PRODID:-//ERT//LNF26//DE
VERSION:2.0
BEGIN:VEVENT
UID:station_1429_20260324T160000Z
DTSTAMP:20260420T020500Z
URL:https://ert.langenachtderforschung.at/station/1429
DTSTART:20260324T160000Z
DTEND:20260424T210000Z
SUMMARY:[LNF26] Nützliche Helfer und krankmachende Bösewichte – wie beeinflussen Bakterien unsere Gesundheit?
DESCRIPTION:Bakterien werden oft in Zusammenhang mit Krankheiten genannt. Doch auch auf unserer Haut leben unzählige solcher Mikroorganismen und das ist auch gut so, denn sie übernehmen hier wichtige Aufgaben. Aber wie schauen Bakterien aus? Welche sind Helfer und welche Bösewichte? Das sehen Sie und Ihre Kinder am ZWT, wo Katrin Wallner und ihr Team am Einsatz von Mikroorganismen zur Behandlung von Neurodermitis forschen.
LOCATION:Neue Stiftingtalstraße 2, 8010 Graz
GEO:47.08009664;15.46932399
END:VEVENT
END:VCALENDAR