BEGIN:VCALENDAR
VERSION:2.0
PRODID:-//ERT//LNF26//DE
VERSION:2.0
BEGIN:VEVENT
UID:station_1433_20260424T170000Z
DTSTAMP:20260420T003300Z
URL:https://ert.langenachtderforschung.at/station/1433
DTSTART:20260424T170000Z
DTEND:20260424T172500Z
SUMMARY:[LNF26] Wollen Sie per Anhalter durch die Galaxis reisen?
DESCRIPTION:Kommen Sie mit auf eine virtuelle Reise durch unser Sonnensystem und darüber hinaus. Bei einer 3D-Demonstration tauchen Sie in die unendlichen Weiten des Weltraums ein. Begleiten Sie Raumsonden, die gerade die Erde umkreisen oder zu Merkur und Jupiter unterwegs sind. Erleben Sie unsere Sonne aus nächster Nähe und entdecken Sie die Vielfalt der Exoplaneten.
LOCATION:Schmiedlstraße 6, 8042 Graz
GEO:47.04438960;15.47958542
END:VEVENT
END:VCALENDAR