BEGIN:VCALENDAR
VERSION:2.0
PRODID:-//ERT//LNF26//DE
VERSION:2.0
BEGIN:VEVENT
UID:station_1434_20260424T173000Z
DTSTAMP:20260420T004200Z
URL:https://ert.langenachtderforschung.at/station/1434
DTSTART:20260424T173000Z
DTEND:20260424T180500Z
SUMMARY:[LNF26] Wie sieht es in einer Biobank aus?
DESCRIPTION:Bei der Führung durch die Biobank der Med Uni Graz am ZWT zeigen wir Ihnen, wie Biobanking funktioniert. Unter anderem können Sie sehen, welche Proben gesammelt und wie sie im Labor bearbeitet werden. Eindrucksvoll sind auch unsere Lagerräume. Außerdem erfahren Sie, wie die Proben für den medizinischen Fortschritt eingesetzt werden können. Wir freuen uns, Ihnen einen Einblick in unsere „Biobanking Welt“ zu geben.
LOCATION:Neue Stiftingtalstraße 2, 8010 Graz
GEO:47.08009664;15.46932399
END:VEVENT
END:VCALENDAR