BEGIN:VCALENDAR
VERSION:2.0
PRODID:-//ERT//LNF26//DE
VERSION:2.0
BEGIN:VEVENT
UID:station_1436_20260424T154500Z
DTSTAMP:20260420T003200Z
URL:https://ert.langenachtderforschung.at/station/1436
DTSTART:20260424T154500Z
DTEND:20260424T161500Z
SUMMARY:[LNF26] Wohin geht die Weltraumreise?
DESCRIPTION:Wussten Sie, dass Grazer Messinstrumente nahezu alle Planeten unseres Sonnensystems erforscht haben? Sie waren bei Venus, Mars und Saturn und sind aktuell unterwegs zu Merkur und Jupiter. Das IWF greift aber auch nach weit entfernten Sternen, die von fremden, exotischen Welten - den sogenannten Exoplaneten - umkreist werden. Kurzvorträge informieren über Weltraumforschung „made in Graz“.
LOCATION:Schmiedlstraße 6, 8042 Graz
GEO:47.04438960;15.47958542
END:VEVENT
END:VCALENDAR