BEGIN:VCALENDAR
VERSION:2.0
PRODID:-//ERT//LNF26//DE
VERSION:2.0
BEGIN:VEVENT
UID:station_1445_20260324T160000Z
DTSTAMP:20260424T134600Z
URL:https://ert.langenachtderforschung.at/station/1445
DTSTART:20260324T160000Z
DTEND:20260424T210000Z
SUMMARY:[LNF26] Druck Dich Fit - die Zukunft der Gesundheit ?
DESCRIPTION:Unter dem Motto „Druck Dich Fit!“ laden wir dazu ein, die Welt des 3D-Drucks in der regenerativen Medizin interaktiv zu entdecken. An unserer Station zeigen wir, wie digitale Befehle reale Bewegungen erzeugen und wie moderne 3D-Drucktechnologien zur Herstellung medizinischer Strukturen eingesetzt werden.
LOCATION:Dr. Karl-Dorrek-Straße 30, 3500 Krems
GEO:48.40830956;15.58515436
END:VEVENT
END:VCALENDAR