BEGIN:VCALENDAR
VERSION:2.0
PRODID:-//ERT//LNF26//DE
VERSION:2.0
BEGIN:VEVENT
UID:station_1448_20260324T160000Z
DTSTAMP:20260424T134500Z
URL:https://ert.langenachtderforschung.at/station/1448
DTSTART:20260324T160000Z
DTEND:20260424T210000Z
SUMMARY:[LNF26] Welche Rolle spielen antimikrobielle Peptide im menschlichen Immunsystem?
DESCRIPTION:Im Zuge dieser Veranstaltung präsentieren wir Forschungsarbeiten zu antimikrobiellen Peptiden, die einen wesentlichen Bestandteil des angeborenen Immunsystems bilden. Diese Peptide unterstützen das menschliche Immunsystem, indem sie Krankheitserreger direkt bekämpfen. Wir zeigen, wie sie aus menschlichem Blut isoliert und ihre antimikrobielle Wirkung im Labor untersucht wird.
LOCATION:Dr. Karl-Dorrek-Straße 30, 3500 Krems
GEO:48.40830956;15.58515436
END:VEVENT
END:VCALENDAR