BEGIN:VCALENDAR
VERSION:2.0
PRODID:-//ERT//LNF26//DE
VERSION:2.0
BEGIN:VEVENT
UID:station_1456_20260424T153000Z
DTSTAMP:20260424T072200Z
URL:https://ert.langenachtderforschung.at/station/1456
DTSTART:20260424T153000Z
DTEND:20260424T160000Z
SUMMARY:[LNF26] Herzklappen im Fokus: Anatomie, Pathologie und klinische Relevanz
DESCRIPTION:Ein Vortrag von OA Dr. Thomas Sturmberger - Leiter des Herzkatheterlabor im KH Elisabethinen Linz - über die Funktion von Herzklappen und deren Pathologien.
LOCATION:Dr-Karl-Dorrek-Straße 30 Trakt E, 3500 Krems an der Donau
GEO:48.40851390;15.58714485
END:VEVENT
END:VCALENDAR