BEGIN:VCALENDAR
VERSION:2.0
PRODID:-//ERT//LNF26//DE
VERSION:2.0
BEGIN:VEVENT
UID:station_1458_20260324T160000Z
DTSTAMP:20260424T134700Z
URL:https://ert.langenachtderforschung.at/station/1458
DTSTART:20260324T160000Z
DTEND:20260424T210000Z
SUMMARY:[LNF26] Was wächst, krabbelt und fliegt vor unserer Haustür und wie machen wir es sichtbar?
DESCRIPTION:Was lebt eigentlich direkt vor unserer Haustür? Entdecken Sie mit dem digitalen Biodiversitäts-Atlas Österreich die Vielfalt an Tieren, Pflanzen und Pilzen in Ihrer Umgebung. An zwei Bildschirmen können Sie den Atlas erkunden. Außerdem erfahren Sie, wie Sie mit iNaturalist bei der City Nature Challenge mitmachen und Naturbeobachtungen dokumentieren können.
LOCATION:Dr. Karl-Dorrek-Straße 30, 3500 Krems
GEO:48.40830956;15.58515436
END:VEVENT
END:VCALENDAR