BEGIN:VCALENDAR
VERSION:2.0
PRODID:-//ERT//LNF26//DE
VERSION:2.0
BEGIN:VEVENT
UID:station_1459_20260324T160000Z
DTSTAMP:20260424T134600Z
URL:https://ert.langenachtderforschung.at/station/1459
DTSTART:20260324T160000Z
DTEND:20260424T210000Z
SUMMARY:[LNF26] Wie Immunzellen lernen: Das Immungedächtnis erforscht mit 3D-Zellkulturen
DESCRIPTION:Das Immungedächtnis ist zentral für eine schnelle und effektive Immunabwehr. In unserer Forschung nutzen wir dreidimensionale Zellkulturmodelle, um die Zusammenarbeit von Immunzellen mit Stammzellen zu untersuchen. Mithilfe von Hydrogelen, die die natürliche Zellumgebung nachahmen, können Immunzellen in einer realitätsnahen Umgebung interagieren.
LOCATION:Dr. Karl-Dorrek-Straße 30, 3500 Krems
GEO:48.40830956;15.58515436
END:VEVENT
END:VCALENDAR