BEGIN:VCALENDAR
VERSION:2.0
PRODID:-//ERT//LNF26//DE
VERSION:2.0
BEGIN:VEVENT
UID:station_1460_20260324T160000Z
DTSTAMP:20260424T134600Z
URL:https://ert.langenachtderforschung.at/station/1460
DTSTART:20260324T160000Z
DTEND:20260424T210000Z
SUMMARY:[LNF26] Gesund oder gelogen: Welchen Social Media Postings zu Gesundheit kann ich trauen?
DESCRIPTION:Auf Social Media und im Internet wimmelt es vor Falschinformationen: So sollen Inhaltsstoffe in Sonnencreme angeblich Krebs verursachen. Oder eine selbsternannte Expertin schwört auf Probiotika zum Abnehmen. Ein Kurzvideo macht Angst: Der Süßstoff Aspartam soll die Gesundheit schädigen!\nAll diese Behauptungen sind falsch. Wir zeigen dir, wie du das erkennen und selbst überprüfen kannst.
LOCATION:Dr. Karl-Dorrek-Straße 30, 3500 Krems
GEO:48.40830956;15.58515436
END:VEVENT
END:VCALENDAR