BEGIN:VCALENDAR
VERSION:2.0
PRODID:-//ERT//LNF26//DE
VERSION:2.0
BEGIN:VEVENT
UID:station_1462_20260424T193000Z
DTSTAMP:20260420T003400Z
URL:https://ert.langenachtderforschung.at/station/1462
DTSTART:20260424T193000Z
DTEND:20260424T201000Z
SUMMARY:[LNF26] Wie löte ich ein Alien-Gesicht?
DESCRIPTION:Jugendliche mit handwerklichem Geschick erhalten hier Einblick in die Herstellung hochqualitativer Messgeräte für den Weltraum. In Kleingruppen werden unter Anleitung elektronische Bauteile auf Leiterplatten gelötet. Am Ende der praktischen Übung kann ein „Alien-Gesicht“ mit leuchtenden Augen mit nach Hause genommen werden.
LOCATION:Schmiedlstraße 6, 8042 Graz
GEO:47.04438960;15.47958542
END:VEVENT
END:VCALENDAR