BEGIN:VCALENDAR
VERSION:2.0
PRODID:-//ERT//LNF26//DE
VERSION:2.0
BEGIN:VEVENT
UID:station_1465_20260324T160000Z
DTSTAMP:20260420T003100Z
URL:https://ert.langenachtderforschung.at/station/1465
DTSTART:20260324T160000Z
DTEND:20260424T200000Z
SUMMARY:[LNF26] 10, 9, 8, … Lift-Off: Schafft es deine Rakete in den Weltraum?
DESCRIPTION:Wolltest du schon immer einmal live bei einem Raketenstart dabei sein? Hier kommst du deinem Traum ein kleines Stück näher! Bastle eine Rakete. Schreibe deinen Namen darauf oder eine kleine Botschaft, die du ins All schicken möchtest. Dann bring deine Rakete zur Startrampe und warte bis dir der „Flight Director“ grünes Licht gibt. Der Countdown läuft: 10, 9, 8, … Lift-Off!
LOCATION:Schmiedlstraße 6, 8042 Graz
GEO:47.04438960;15.47958542
END:VEVENT
END:VCALENDAR