BEGIN:VCALENDAR
VERSION:2.0
PRODID:-//ERT//LNF26//DE
VERSION:2.0
BEGIN:VEVENT
UID:station_1467_20260324T160000Z
DTSTAMP:20260420T003200Z
URL:https://ert.langenachtderforschung.at/station/1467
DTSTART:20260324T160000Z
DTEND:20260424T200000Z
SUMMARY:[LNF26] Lust auf eine Mars-Ralley?
DESCRIPTION:Lust auf eine Reise zum Mars? Noch ist kein Mensch auf dem Roten Planeten gelandet. Er wird aber aktuell von mehreren Raumsonden und Landegeräten erkundet. Unsere jüngsten Gäste sind eingeladen, mit einem ferngesteuerten Rover über die Marsoberfläche zu düsen und können dabei sogar einen Marsrover-Führerschein erwerben!
LOCATION:Schmiedlstraße 6, 8042 Graz
GEO:47.04438960;15.47958542
END:VEVENT
END:VCALENDAR