BEGIN:VCALENDAR
VERSION:2.0
PRODID:-//ERT//LNF26//DE
VERSION:2.0
BEGIN:VEVENT
UID:station_1470_20260324T160000Z
DTSTAMP:20260420T003100Z
URL:https://ert.langenachtderforschung.at/station/1470
DTSTART:20260324T160000Z
DTEND:20260424T200000Z
SUMMARY:[LNF26] Weißt du wieviel Sternlein stehen?
DESCRIPTION:Im Außenbereich des Instituts für Weltraumforschung laden wir Sie zu einem Spaziergang durch unseren Planetengarten ein, der die unendlichen Weiten unseres Sonnensystems auf kleinstmöglichem Raum veranschaulicht. Durch die Teleskope des Steirischen Astronomenvereins können Sie bei Tag einen Blick auf unsere feurige Sonne werfen und bei Nacht den Sternenhimmel beobachten.
LOCATION:Schmiedlstraße 6, 8042 Graz
GEO:47.04438960;15.47958542
END:VEVENT
END:VCALENDAR