BEGIN:VCALENDAR
VERSION:2.0
PRODID:-//ERT//LNF26//DE
VERSION:2.0
BEGIN:VEVENT
UID:station_15_20260324T160000Z
DTSTAMP:20260424T102400Z
URL:https://ert.langenachtderforschung.at/station/15
DTSTART:20260324T160000Z
DTEND:20260424T204500Z
SUMMARY:[LNF26] Saubere Luft für alle!  Wie werden Schadstoffe aus der Luft gefiltert?
DESCRIPTION:Saubere Luft ist für uns alle sehr wichtig. Luftfilter sorgen dafür, dass unerwünschte und schädliche Partikel und Gase aus der Luft entfernt werden. Bei dieser Station siehst man wie Luftfilter funktionieren und wie wir sie mit unserer Forschung langlebiger machen wollen.
LOCATION:Viktor Kaplan Strasse 2 TFZ, 2700 Wiener Neustadt
GEO:47.83725022;16.25247860
END:VEVENT
END:VCALENDAR