BEGIN:VCALENDAR
VERSION:2.0
PRODID:-//ERT//LNF26//DE
VERSION:2.0
BEGIN:VEVENT
UID:station_1521_20260324T160000Z
DTSTAMP:20260420T003000Z
URL:https://ert.langenachtderforschung.at/station/1521
DTSTART:20260324T160000Z
DTEND:20260424T200000Z
SUMMARY:[LNF26] Wie entstehen Polarlichter?
DESCRIPTION:Was ist kosmische Strahlung? In unserer Nebelkammer wird sie sichtbar gemacht. Gibt es Polarlichter auch auf anderen Planeten? Die Lange Nacht der Forschung holt sie direkt zu uns ins Labor.
LOCATION:Schmiedlstraße 6, 8042 Graz
GEO:47.04438960;15.47958542
END:VEVENT
END:VCALENDAR