BEGIN:VCALENDAR
VERSION:2.0
PRODID:-//ERT//LNF26//DE
VERSION:2.0
BEGIN:VEVENT
UID:station_1550_20260324T160000Z
DTSTAMP:20260420T003200Z
URL:https://ert.langenachtderforschung.at/station/1550
DTSTART:20260324T160000Z
DTEND:20260424T200000Z
SUMMARY:[LNF26] Wie kocht man einen Kometen?
DESCRIPTION:Ein außergewöhnlicher Kochkurs erwartet Sie in unserer "Kometen-Küche", in der geheimnisvolle Boten vom Rand unseres Sonnensystems serviert werden.
LOCATION:Schmiedlstraße 6, 8042 Graz
GEO:47.04438960;15.47958542
END:VEVENT
END:VCALENDAR