BEGIN:VCALENDAR
VERSION:2.0
PRODID:-//ERT//LNF26//DE
VERSION:2.0
BEGIN:VEVENT
UID:station_1562_20260424T163000Z
DTSTAMP:20260420T021000Z
URL:https://ert.langenachtderforschung.at/station/1562
DTSTART:20260424T163000Z
DTEND:20260424T170000Z
SUMMARY:[LNF26] Was erforscht das Astrolabor?
DESCRIPTION:Mit der erfolgreichen Landung auf der Oberfläche des Kometen 67P/Tschurjumow-Gerassimenko schrieb die Raumsonde Rosetta 2014 Weltraumgeschichte. Was muss man tun, um die gewonnenen Daten besser auswerten zu können? Wie werden Weltraummissionen durch Arbeiten im Labor unterstützt? Das Grazer Institut für Weltraumforschung kennt die Antwort.
LOCATION:Schmiedlstraße 6, 8042 Graz
GEO:47.04438960;15.47958542
END:VEVENT
END:VCALENDAR