BEGIN:VCALENDAR
VERSION:2.0
PRODID:-//ERT//LNF26//DE
VERSION:2.0
BEGIN:VEVENT
UID:station_1584_20260424T193000Z
DTSTAMP:20260420T020800Z
URL:https://ert.langenachtderforschung.at/station/1584
DTSTART:20260424T193000Z
DTEND:20260424T200000Z
SUMMARY:[LNF26] Was machen Marshmallows im Vakuumlabor?
DESCRIPTION:Wissenschaftliche Geräte an Bord von Raumsonden müssen unter extremen Verhältnissen viele Jahre zuverlässig funktionieren. Die Entwicklung und der Bau weltraumtauglicher Messinstrumente am Grazer Institut für Weltraumforschung ist daher ein heikles Unterfangen. Das Vakuumlabor mit seinen Testanlagen spielt dabei eine wesentliche Rolle. Und was haben Marshmallows darin verloren? Lassen Sie sich einfach überraschen!
LOCATION:Schmiedlstraße 6, 8042 Graz
GEO:47.04438960;15.47958542
END:VEVENT
END:VCALENDAR